BEGIN:VCALENDAR
VERSION:2.0
PRODID:-//wp-events-plugin.com//6.4.5.1//EN
TZID:America/Edmonton
X-WR-TIMEZONE:America/Edmonton
BEGIN:VEVENT
UID:0-14303@fernie.com
DTSTART;TZID=America/Edmonton:20261003T080000
DTEND;TZID=America/Edmonton:20261003T170000
DTSTAMP:20260424T215959Z
URL:https://fernie.com/events/the-high-roller-2/
SUMMARY:The High Roller - Elk Valley Nordic Centre - 3 Oct 26 08:00
DESCRIPTION:The High Roller - Fernie's end of season epic mountain bike pok
 er ride is an event to enjoy. \n\nThe Fernie High Roller is a poker run st
 yle epic day of riding taking you around the best big descents in town. Ma
 ke it as challenging as you like with 3 route options\; The High Roller\, 
 The Low Roller and Mini Roller (kids ride).  E-bikes and runners are welco
 me.\n\nThis event can be done running or biking.\n\n\n\n
ATTACH;FMTTYPE=image/jpeg:https://i0.wp.com/fernie.com/files/2024/08/High_
 Roller-7446-medium.jpg?fit=1240%2C827&ssl=1
CATEGORIES:Featured,Kids' Event,Recreation &amp; Sporting Events
LOCATION:Elk Valley Nordic Centre\, Mt Fernie Provincial Park\, Fernie\, Ca
 nada
GEO:49.487617;-115.099091
X-APPLE-STRUCTURED-LOCATION;VALUE=URI;X-ADDRESS=Mt Fernie Provincial Park\,
  Fernie\, Canada;X-APPLE-RADIUS=100;X-TITLE=Elk Valley Nordic Centre:geo:4
 9.487617,-115.099091
END:VEVENT
BEGIN:VTIMEZONE
TZID:America/Edmonton
X-LIC-LOCATION:America/Edmonton
BEGIN:DAYLIGHT
DTSTART:20260308T030000
TZOFFSETFROM:-0700
TZOFFSETTO:-0600
TZNAME:MDT
END:DAYLIGHT
END:VTIMEZONE
END:VCALENDAR