BEGIN:VCALENDAR
VERSION:2.0
PRODID:-//wp-events-plugin.com//6.4.5.1//EN
TZID:America/Edmonton
X-WR-TIMEZONE:America/Edmonton
BEGIN:VEVENT
UID:0-15690@fernie.com
DTSTART;TZID=America/Edmonton;VALUE=DATE:20260620
DTEND;TZID=America/Edmonton;VALUE=DATE:20260622
DTSTAMP:20260308T231940Z
URL:https://fernie.com/events/sun-smash-beach-volleyball-tournament/
SUMMARY:Sun Smash Beach Volleyball Tournament - Fernie Aquatic Centre - 20 
 Jun 26 00:00
DESCRIPTION:The Sun Smash Beach Volleyball Tournament on Fernie's awesome l
 ocal beach courts is a fundraiser for the Fernie Volleyball Club and futur
 e Elk Valley Fieldhouse. \nGames all day Saturday Sunday\, 2 Divisions\nEm
 ail fernieadultvolleyball@gmail.com for info.
ATTACH;FMTTYPE=image/jpeg:https://i0.wp.com/fernie.com/files/2026/03/64846
 9095_26056699847291103_1271236529401347827_n.jpg?fit=1080%2C1441&ssl=1
CATEGORIES:Recreation &amp; Sporting Events
LOCATION:Fernie Aquatic Centre\, 250 Pine Avenue\, Fernie\, BC\, Canada
GEO:49.496498;-115.064003
X-APPLE-STRUCTURED-LOCATION;VALUE=URI;X-ADDRESS=250 Pine Avenue\, Fernie\, 
 BC\, Canada;X-APPLE-RADIUS=100;X-TITLE=Fernie Aquatic Centre:geo:49.496498
 ,-115.064003
END:VEVENT
BEGIN:VTIMEZONE
TZID:America/Edmonton
X-LIC-LOCATION:America/Edmonton
BEGIN:DAYLIGHT
DTSTART:20260308T030000
TZOFFSETFROM:-0700
TZOFFSETTO:-0600
TZNAME:MDT
END:DAYLIGHT
END:VTIMEZONE
END:VCALENDAR