BEGIN:VCALENDAR
VERSION:2.0
PRODID:-//wp-events-plugin.com//6.4.5.1//EN
TZID:America/Edmonton
X-WR-TIMEZONE:America/Edmonton
BEGIN:VEVENT
UID:0-15748@fernie.com
DTSTART;TZID=America/Edmonton:20260507T190000
DTEND;TZID=America/Edmonton:20260507T220000
DTSTAMP:20260415T195533Z
URL:https://fernie.com/events/shades-through-her-lens/
SUMMARY:SHADES: Through Her Lens - The Arts Station - 7 May 26 19:00
DESCRIPTION:SHADES: Through Her Lens celebrates stories of queer women\, fe
 mmes\, and non-binary folks whose experiences are too often pushed to the 
 edges.\n\nThis is an evening of film and conversation with Black\, raciali
 zed\, and queer women at the centre.\n\nIn attendance will be Salima Stanl
 ey-Bhanji\, Co-Founder of Humainologie and Filmmaker\, and three featured 
 SHADES voices\; Tea Fannie\, Livvy Walker\, and Priscilla Cherry.\n\nSHADE
 S is a film series and platform that celebrates Black\, racialized\, and q
 ueer women and centres their identities\, passions\, hopes\, and contribut
 ions to the community. Learn more about SHADES or Humainologie here.\n\nTh
 is event is supported thanks to the efforts of Alpine Pathways Psychology\
 , Elk Valley Suicide Task Force\, Dr. Marian Ma\, Park Place Lodge\, and F
 ernie Pride Society.\n\nGet your tickets here.\n\nTickets are encouraged t
 o be purchased in advance and are pay-what-you-can with a suggested donati
 on of $5+. All proceeds are used to support the event.\n\n**if the price t
 o attend is a barrier\, please reach out to info@ferniepride.ca to be adde
 d to the Guest List at no cost.
ATTACH;FMTTYPE=image/jpeg:https://i0.wp.com/fernie.com/files/2026/04/66965
 0449_950767394327393_417899522059110760_n.jpg?fit=1080%2C1350&ssl=1
CATEGORIES:Community,Health &amp; Wellness
LOCATION:The Arts Station\, 601 1st Ave\, Fernie\, BC\, Canada
GEO:49.5034;-115.06
X-APPLE-STRUCTURED-LOCATION;VALUE=URI;X-ADDRESS=601 1st Ave\, Fernie\, BC\,
  Canada;X-APPLE-RADIUS=100;X-TITLE=The Arts Station:geo:49.5034,-115.06
END:VEVENT
BEGIN:VTIMEZONE
TZID:America/Edmonton
X-LIC-LOCATION:America/Edmonton
BEGIN:DAYLIGHT
DTSTART:20260308T030000
TZOFFSETFROM:-0700
TZOFFSETTO:-0600
TZNAME:MDT
END:DAYLIGHT
END:VTIMEZONE
END:VCALENDAR