BEGIN:VCALENDAR
VERSION:2.0
PRODID:-//wp-events-plugin.com//6.4.5.1//EN
TZID:America/Edmonton
X-WR-TIMEZONE:America/Edmonton
BEGIN:VEVENT
UID:0-15754@fernie.com
DTSTART;TZID=America/Edmonton:20260627T100000
DTEND;TZID=America/Edmonton:20260627T210000
DTSTAMP:20260424T224836Z
URL:https://fernie.com/events/ride-roast-bike-festival/
SUMMARY:Ride & Roast Bike Festival - Montane Barn - 27 Jun 26 10:00
DESCRIPTION:Ride & Roast Bike Festival brings a full day of bikes\, food\, 
 and community energy to Fernie on Saturday\, June 27\, 2026.\n\nAnchoring 
 the weekend alongside Fernie Singletrack 3\, the festival is organized by 
 the Coal Creek Heritage Society and is designed as a free\, inclusive cele
 bration of Fernie’s trail culture and outdoor lifestyle.\n\nThe day feat
 ures a wide range of activities for all ages and abilities\, including com
 munity rides\, a kids’ bike rodeo\, an e-bike rally\, heritage rides\, a
 nd a crowd-favourite townie challenge. At the heart of the festival is the
  signature lamb roast-off\, bringing together food\, local flavour\, and a
  bit of friendly competition.\n\nThe festival grounds come alive with food
  trucks\, a beer garden\, and an active expo village showcasing bikes\, ge
 ar\, and local organizations. The Fernie Singletrack 3 awards wrap in the 
 late afternoon\, setting the stage for live music from Wheel House beginni
 ng at 5:00 PM\, carrying the energy into the evening in a laid-back\, soci
 al atmosphere.\n\nWhether you’re racing\, riding\, or just coming down t
 o take it all in\, Ride & Roast is a chance to experience Fernie’s bike 
 community at its best.
ATTACH;FMTTYPE=image/jpeg:https://i0.wp.com/fernie.com/files/2026/04/Ride-
 Roat-black-scaled.jpg?fit=2560%2C1045&ssl=1
CATEGORIES:Community,Entertainment,Featured,Fun Festivities,Kids'
 Event,Nightlife,Recreation &amp; Sporting Events
LOCATION:Montane Barn\, Montane Parkway\, Fernie\, BC\, V0B 1M2\, Canada
GEO:49.493051;-115.058157
X-APPLE-STRUCTURED-LOCATION;VALUE=URI;X-ADDRESS=Montane Parkway\, Fernie\, 
 BC\, V0B 1M2\, Canada;X-APPLE-RADIUS=100;X-TITLE=Montane Barn:geo:49.49305
 1,-115.058157
END:VEVENT
BEGIN:VTIMEZONE
TZID:America/Edmonton
X-LIC-LOCATION:America/Edmonton
BEGIN:DAYLIGHT
DTSTART:20260308T030000
TZOFFSETFROM:-0700
TZOFFSETTO:-0600
TZNAME:MDT
END:DAYLIGHT
END:VTIMEZONE
END:VCALENDAR