BEGIN:VCALENDAR
VERSION:2.0
PRODID:-//wp-events-plugin.com//6.4.5.1//EN
TZID:America/Edmonton
X-WR-TIMEZONE:America/Edmonton
BEGIN:VEVENT
UID:0-14285@fernie.com
DTSTART;TZID=America/Edmonton:20260909T180000
DTEND;TZID=America/Edmonton:20260909T210000
DTSTAMP:20260424T211422Z
URL:https://fernie.com/events/project-9-mountain-bike-race/
SUMMARY:Project 9 Mountain Bike Race - Elk Valley Nordic Centre - 9 Sep 26 
 18:00
DESCRIPTION:The Project 9 Mountain Bike Race is one of Fernie’s classic r
 aces on a black diamond singletrack all-mountain trail.\n\nP9 is grunt up 
 on a super steep road with a super fun technical downhill. Race times for 
 up\, down and combined.\n\nRead about the P9 trail on Trailforks.\n\n\n\n\
 n
ATTACH;FMTTYPE=image/jpeg:https://i0.wp.com/fernie.com/files/2014/07/Proje
 ct-9-Race.png?fit=579%2C595&ssl=1
CATEGORIES:Recreation &amp; Sporting Events
LOCATION:Elk Valley Nordic Centre\, Mt Fernie Provincial Park\, Fernie\, Ca
 nada
GEO:49.487617;-115.099091
X-APPLE-STRUCTURED-LOCATION;VALUE=URI;X-ADDRESS=Mt Fernie Provincial Park\,
  Fernie\, Canada;X-APPLE-RADIUS=100;X-TITLE=Elk Valley Nordic Centre:geo:4
 9.487617,-115.099091
END:VEVENT
BEGIN:VTIMEZONE
TZID:America/Edmonton
X-LIC-LOCATION:America/Edmonton
BEGIN:DAYLIGHT
DTSTART:20260308T030000
TZOFFSETFROM:-0700
TZOFFSETTO:-0600
TZNAME:MDT
END:DAYLIGHT
END:VTIMEZONE
END:VCALENDAR