BEGIN:VCALENDAR
VERSION:2.0
PRODID:-//wp-events-plugin.com//6.4.5.1//EN
TZID:America/Edmonton
X-WR-TIMEZONE:America/Edmonton
BEGIN:VEVENT
UID:0-15743@fernie.com
DTSTART;TZID=America/Edmonton:20260503T100000
DTEND;TZID=America/Edmonton:20260503T140000
DTSTAMP:20260412T182909Z
URL:https://fernie.com/events/kids-craft-fair/
SUMMARY:Kids Craft Fair - Elks Hall - 3 May 26 10:00
DESCRIPTION:Fernie's first KIDS Craft Fair is happening at the Elks hall on
  Saturday May 3rd!\n\nEmail ferniecraftfairs@gmail.com to secure your youn
 g entrepreneurs table.\n
ATTACH;FMTTYPE=image/jpeg:https://i0.wp.com/fernie.com/files/2026/04/KIDS-
 Craft-Fair.jpg?fit=800%2C534&ssl=1
CATEGORIES:Art &amp; Culture,Community,Kids' Event
LOCATION:Elks Hall\, 1st Ave\, Fernie\, BC\, V0B1M0\, Snow Valley\, Canada
GEO:49.5047;-115.059
X-APPLE-STRUCTURED-LOCATION;VALUE=URI;X-ADDRESS=1st Ave\, Fernie\, BC\, V0B
 1M0\, Snow Valley\, Canada;X-APPLE-RADIUS=100;X-TITLE=Elks Hall:geo:49.504
 7,-115.059
END:VEVENT
BEGIN:VTIMEZONE
TZID:America/Edmonton
X-LIC-LOCATION:America/Edmonton
BEGIN:DAYLIGHT
DTSTART:20260308T030000
TZOFFSETFROM:-0700
TZOFFSETTO:-0600
TZNAME:MDT
END:DAYLIGHT
END:VTIMEZONE
END:VCALENDAR