BEGIN:VCALENDAR
VERSION:2.0
PRODID:-//wp-events-plugin.com//6.4.5.1//EN
TZID:America/Edmonton
X-WR-TIMEZONE:America/Edmonton
BEGIN:VEVENT
UID:0-14087@fernie.com
DTSTART;TZID=America/Edmonton;VALUE=DATE:20260530
DTEND;TZID=America/Edmonton;VALUE=DATE:20260606
DTSTAMP:20260424T204556Z
URL:https://fernie.com/events/go-by-bike-week/
SUMMARY:Spring Go By Bike Week - City of Fernie - 30 May 26 00:00
DESCRIPTION:Go by Bike Week is a celebration of cycling\, where we encourag
 e everyone in Fernie  to give cycling a try and motivate those who already
  do to keep riding. \n\nRide your bike to the grocery store\, school\, wor
 k or to grab a coffee\, any destination counts and log your trips to track
  KM's and greenhouses gas savings\, the more trips you log\, the more priz
 es you can win!\n\n\n
ATTACH;FMTTYPE=image/jpeg:https://i0.wp.com/fernie.com/files/2024/05/Sprin
 g-GoByBike-Week.jpg?fit=2000%2C1333&ssl=1
CATEGORIES:Community,Earth health,Featured,Fun Festivities,Kids'
 Event,Recreation &amp; Sporting Events
LOCATION:City of Fernie\, Downtown\, Fernie\, BC\, Canada
GEO:49.5042;-115.063
X-APPLE-STRUCTURED-LOCATION;VALUE=URI;X-ADDRESS=Downtown\, Fernie\, BC\, Ca
 nada;X-APPLE-RADIUS=100;X-TITLE=City of Fernie:geo:49.5042,-115.063
END:VEVENT
BEGIN:VTIMEZONE
TZID:America/Edmonton
X-LIC-LOCATION:America/Edmonton
BEGIN:DAYLIGHT
DTSTART:20260308T030000
TZOFFSETFROM:-0700
TZOFFSETTO:-0600
TZNAME:MDT
END:DAYLIGHT
END:VTIMEZONE
END:VCALENDAR