BEGIN:VCALENDAR
VERSION:2.0
PRODID:-//wp-events-plugin.com//6.4.5.1//EN
TZID:America/Edmonton
X-WR-TIMEZONE:America/Edmonton
BEGIN:VEVENT
UID:0-15540@fernie.com
DTSTART;TZID=America/Edmonton:20260626T090000
DTEND;TZID=America/Edmonton:20260628T234500
DTSTAMP:20260424T225017Z
URL:https://fernie.com/events/fernie-singletrack-3/
SUMMARY:Fernie Singletrack 3 -  - 26 Jun 26 09:00
DESCRIPTION:Fernie Singletrack 3 arrives in the Elk Valley June 26–28\, 2
 026\, marking the return of the TransRockies Race Series to Fernie with a 
 new three-day mountain bike stage race and community festival.\n\nThis fir
 st-year event has already sold out its 500-rider field\, drawing participa
 nts from across Western Canada and beyond. While the race itself is full\,
  the focus now shifts to community engagement\, spectators\, and festival 
 participation across the weekend.\n\nThe race features three distinct stag
 es linking Fernie’s trail networks\, with operations centred at the Mont
 ane Barn and the Elk Valley Nordic Centre. Stage 1 and Stage 2 showcase Mo
 ntane\, Ridgemont\, the Elk Valley Trail and surrounding singletrack\, whi
 le Stage 3 connects the Nordic Centre to Fernie Alpine Resort before retur
 ning for final awards and celebrations.\n\nBeyond the racing\, Fernie Sing
 letrack 3 is built as a full community experience. The Ride & Roast Bike F
 estival\, organized by the Coal Creek Heritage Society\, anchors Saturday 
 with a broad mix of free and inclusive programming. Community rides\, a ki
 ds’ bike rodeo\, an e-bike rally\, heritage rides\, a townie challenge\,
  and a signature lamb roast-off!  The event is also supported by food truc
 ks\, a beer garden\, live music\, and an active expo village.\n\nWith the 
 race field confirmed\, the weekend is positioned as a spectator-friendly e
 vent and a celebration of Fernie’s trail culture and outdoor lifestyle. 
 Residents and visitors are encouraged to come out\, watch the racing\, and
  take part in the festival atmosphere.
ATTACH;FMTTYPE=image/jpeg:https://i0.wp.com/fernie.com/files/2025/11/57428
 8748_1231332829027040_677127482515861494_n.jpg?fit=1000%2C716&ssl=1
CATEGORIES:Featured,Fun Festivities,Recreation &amp; Sporting Events
END:VEVENT
BEGIN:VTIMEZONE
TZID:America/Edmonton
X-LIC-LOCATION:America/Edmonton
BEGIN:DAYLIGHT
DTSTART:20260308T030000
TZOFFSETFROM:-0700
TZOFFSETTO:-0600
TZNAME:MDT
END:DAYLIGHT
END:VTIMEZONE
END:VCALENDAR