BEGIN:VCALENDAR
VERSION:2.0
PRODID:-//wp-events-plugin.com//6.4.5.1//EN
TZID:America/Edmonton
X-WR-TIMEZONE:America/Edmonton
BEGIN:VEVENT
UID:0-15751@fernie.com
DTSTART;TZID=America/Edmonton:20260422T170000
DTEND;TZID=America/Edmonton:20260422T190000
DTSTAMP:20260421T192359Z
URL:https://fernie.com/events/fernie-future-fest/
SUMMARY:Fernie Future Fest - Fernie Family Centre - 22 Apr 26 17:00
DESCRIPTION:Participate in Fernie Future Fest where the City of Fernie is k
 icking off Round 2 engagement for the Official Community Plan. You shared 
 your ideas in Round 1- now it’s time to see how they’ve shaped Fernie
 ’s future.\n\nJoin us for Fernie Future Fest\, a fun\, drop-in event whe
 re you can explore emerging ideas and help refine the direction of Fernie
 ’s Official Community Plan.\n\nWhat’s happening at Fernie Future Fest?
 \n• Enjoy free pizza\n• Take part in interactive activities\n• Chat 
 with the project team\n• Pick up a Fernie Future Workbook\n• Share you
 r thoughts on community values\, growth\, and key topics like housing and 
 liveability.\n\nCan’t make it in person? You can fill out a digital work
 book on letstalk.fernie.ca/OCP or pick up a physical copy at City Hall (av
 ailable April 22).\n\nEvery completed workbook will be entered into a draw
  to win one of five $100 gift cards to a local Fernie business of your cho
 ice\n
ATTACH;FMTTYPE=image/jpeg:https://i0.wp.com/fernie.com/files/2026/04/67268
 7023_1332679045576412_3184236923417626329_n.jpg?fit=1200%2C630&ssl=1
CATEGORIES:Community,Featured
LOCATION:Fernie Family Centre\, 521 4th ave\, Fernie\, Canada
GEO:49.5043629;-115.0637539
X-APPLE-STRUCTURED-LOCATION;VALUE=URI;X-ADDRESS=521 4th ave\, Fernie\, Cana
 da;X-APPLE-RADIUS=100;X-TITLE=Fernie Family Centre:geo:49.5043629,-115.063
 7539
END:VEVENT
BEGIN:VTIMEZONE
TZID:America/Edmonton
X-LIC-LOCATION:America/Edmonton
BEGIN:DAYLIGHT
DTSTART:20260308T030000
TZOFFSETFROM:-0700
TZOFFSETTO:-0600
TZNAME:MDT
END:DAYLIGHT
END:VTIMEZONE
END:VCALENDAR