BEGIN:VCALENDAR
VERSION:2.0
PRODID:-//wp-events-plugin.com//6.4.5.1//EN
TZID:America/Edmonton
X-WR-TIMEZONE:America/Edmonton
BEGIN:VEVENT
UID:0-15750@fernie.com
DTSTART;TZID=America/Edmonton:20260507T140000
DTEND;TZID=America/Edmonton:20260507T190000
DTSTAMP:20260421T031646Z
URL:https://fernie.com/events/evr-careers-information-sessions-in-sparwood
 /
SUMMARY:EVR Careers Information Sessions in Sparwood - Causeway Bay Hotel -
  7 May 26 14:00
DESCRIPTION:EVR Careers Information Sessions in Sparwood are set for May 7\
 , 2026\, offering Elk Valley residents a direct look at employment opportu
 nities with Elk Valley Resources.\n\nThe sessions will take place at the C
 auseway Bay Hotel with three time options throughout the afternoon and eve
 ning\, making it accessible for a range of schedules.\n\nThursday\, May 7\
 , 2026\n2:00 p.m. – 3:00 p.m.\n4:00 p.m. – 5:00 p.m.\n6:00 p.m. – 7:
 00 p.m.\n\nThis Fernie-area event is aimed at individuals interested in ex
 ploring career pathways in the mining sector\, with EVR’s recruitment te
 am on hand to provide insight into available roles\, hiring processes\, an
 d what it’s like to work in the Elk Valley. Attendees can ask questions 
 directly and learn about current and upcoming job opportunities.\n\nRegist
 ration is encouraged\, although walk-ins are welcome\, reflecting ongoing 
 demand for employment information sessions tied to one of the region’s l
 argest employers.\n\nRegister Here.
ATTACH;FMTTYPE=image/jpeg:https://i0.wp.com/fernie.com/files/2026/04/Ferni
 e.com-1080-x-1080-copy.jpg?fit=1081%2C1081&ssl=1
CATEGORIES:Community,Featured
LOCATION:Causeway Bay Hotel\, 102 Red Cedar Drive\, Sparwood\, BC\, V0B 2G0
 \, Canada
GEO:49.7302063;-114.88528380000002
X-APPLE-STRUCTURED-LOCATION;VALUE=URI;X-ADDRESS=102 Red Cedar Drive\, Sparw
 ood\, BC\, V0B 2G0\, Canada;X-APPLE-RADIUS=100;X-TITLE=Causeway Bay Hotel:
 geo:49.7302063,-114.88528380000002
END:VEVENT
BEGIN:VTIMEZONE
TZID:America/Edmonton
X-LIC-LOCATION:America/Edmonton
BEGIN:DAYLIGHT
DTSTART:20260308T030000
TZOFFSETFROM:-0700
TZOFFSETTO:-0600
TZNAME:MDT
END:DAYLIGHT
END:VTIMEZONE
END:VCALENDAR