BEGIN:VCALENDAR
VERSION:2.0
PRODID:-//wp-events-plugin.com//6.4.5.1//EN
TZID:America/Edmonton
X-WR-TIMEZONE:America/Edmonton
BEGIN:VEVENT
UID:0-15753@fernie.com
DTSTART;TZID=America/Edmonton:20260424T110000
DTEND;TZID=America/Edmonton:20260425T160000
DTSTAMP:20260423T155439Z
URL:https://fernie.com/events/earth-day-community-cleanup/
SUMMARY:Earth Day Community Cleanup - Fernie Library - 24 Apr 26 11:00
DESCRIPTION:Engage in the Earth Day Community Cleanup at the Heritage Libra
 ry to help tidy our town of trash left behind after the snow melt\, and cr
 eate a visual statement to highlight the impact of littering.\n\nHow it wo
 rks:\n\n– On Friday April 24th between 11am and 5:30pm pop into the libr
 ary to pick up gloves and bags (kindly donated by Fernie Home Hardware).\n
 \n– On Saturday April 25th grab your people and get outside to pick up s
 ome garbage!\n\n– Once your bags are full\, bring them to the library (w
 e will be open 11am – 4pm) and throw it onto the back of the Home Hardwa
 re truck so it can be disposed of in the right manner.\n\n– Enjoy coffee
  provided by Fernie Starbucks and snacks provided by Eldho’s Independent
  Grocer.\n\n**Please note**\n\n– They will only accept trash bags from t
 he community clean-up\, NOT household or personal yard waste.\n\n– Ferni
 e Home Hardware will be by at 4pm on Saturday to take the trash truck and 
 dispose of it.
ATTACH;FMTTYPE=image/jpeg:https://i0.wp.com/fernie.com/files/2026/04/66770
 7724_122199622094561466_1887155570475470185_n.jpg?fit=1920%2C1005&ssl=1
CATEGORIES:Community,Earth health,Featured
LOCATION:Fernie Library\, 492 3rd Ave\, Fernie\, BC\, V0B 1M0\, Canada
GEO:49.503465;-115.062765
X-APPLE-STRUCTURED-LOCATION;VALUE=URI;X-ADDRESS=492 3rd Ave\, Fernie\, BC\,
  V0B 1M0\, Canada;X-APPLE-RADIUS=100;X-TITLE=Fernie Library:geo:49.503465,
 -115.062765
END:VEVENT
BEGIN:VTIMEZONE
TZID:America/Edmonton
X-LIC-LOCATION:America/Edmonton
BEGIN:DAYLIGHT
DTSTART:20260308T030000
TZOFFSETFROM:-0700
TZOFFSETTO:-0600
TZNAME:MDT
END:DAYLIGHT
END:VTIMEZONE
END:VCALENDAR