BEGIN:VCALENDAR
VERSION:2.0
PRODID:-//wp-events-plugin.com//6.4.5.1//EN
TZID:America/Edmonton
X-WR-TIMEZONE:America/Edmonton
BEGIN:VEVENT
UID:0-15740@fernie.com
DTSTART;TZID=America/Edmonton:20260530T080000
DTEND;TZID=America/Edmonton:20260530T150000
DTSTAMP:20260409T160339Z
URL:https://fernie.com/events/community-yard-sale-2026/
SUMMARY:Community Yard Sale 2026 -  - 30 May 26 08:00
DESCRIPTION:The Community Yard Sale is back and set to take place Saturday\
 , May 30\, 2026. All individuals\, families\, organizations\, and business
 es in Fernie are encouraged to take part. \n\nThe registration fee is $25.
 00. All proceeds go directly towards covering costs for the event. Registe
 ring includes several benefits: colourful Community Yard Sale signs\, havi
 ng your yard sale location on the exclusive Community Yard Sale map\, and 
 extensive event promotion both online and in print. \n\nRegistration is op
 en until May 27\, with addresses due by May 24 for inclusion in the printe
 d Yard Sale map. ALL yard sale addresses will be promoted online - on the 
 Yard Sale Facebook event page\, the Wildsight Instagram page\, and the Wil
 dsight web page. However\, only registrations received by May 24 will be i
 ncluded on the yard sale map due to time needed to create and print the ma
 ps.\n\nEmail: elkvalley@wildsight.ca\nFernie Community Yard Sale Registrat
 ion	$25.00\nRegistration here: wildsight.ca
ATTACH;FMTTYPE=image/jpeg:https://i0.wp.com/fernie.com/files/2026/04/Commu
 nity-Yard-sale.jpg?fit=1174%2C972&ssl=1
CATEGORIES:Community,Earth health,Featured
END:VEVENT
BEGIN:VTIMEZONE
TZID:America/Edmonton
X-LIC-LOCATION:America/Edmonton
BEGIN:DAYLIGHT
DTSTART:20260308T030000
TZOFFSETFROM:-0700
TZOFFSETTO:-0600
TZNAME:MDT
END:DAYLIGHT
END:VTIMEZONE
END:VCALENDAR