BEGIN:VCALENDAR
VERSION:2.0
PRODID:-//wp-events-plugin.com//6.4.5.1//EN
TZID:America/Edmonton
X-WR-TIMEZONE:America/Edmonton
BEGIN:VEVENT
UID:0-15752@fernie.com
DTSTART;TZID=America/Edmonton:20260502T100000
DTEND;TZID=America/Edmonton:20260502T150000
DTSTAMP:20260423T154549Z
URL:https://fernie.com/events/community-ecogarden-workparty/
SUMMARY:Community EcoGarden Workparty - Community EcoGarden - 2 May 26 10:0
 0
DESCRIPTION:The Community EcoGarden Workparty plan is to renew the soil in 
 the plots. Help our community grow!\n\nGet ready for some fun with wheels 
 barrows\, shovels\, and more! \n\nAll ages and abilities are welcome. No e
 xperience required.\nMay 2nd from 10am till noon and then 1-3pm\nBring wor
 k gloves if you have them.
ATTACH;FMTTYPE=image/jpeg:https://i0.wp.com/fernie.com/files/2026/04/67898
 8274_1413084143955231_8256369549767501831_n.jpg?fit=1200%2C630&ssl=1
CATEGORIES:Community,Earth health,Food Special
LOCATION:Community EcoGarden\, Prentice Park\, Fernie\, BC\, Canada
GEO:49.5123629;-115.0557134
X-APPLE-STRUCTURED-LOCATION;VALUE=URI;X-ADDRESS=Prentice Park\, Fernie\, BC
 \, Canada;X-APPLE-RADIUS=100;X-TITLE=Community EcoGarden:geo:49.5123629,-1
 15.0557134
END:VEVENT
BEGIN:VTIMEZONE
TZID:America/Edmonton
X-LIC-LOCATION:America/Edmonton
BEGIN:DAYLIGHT
DTSTART:20260308T030000
TZOFFSETFROM:-0700
TZOFFSETTO:-0600
TZNAME:MDT
END:DAYLIGHT
END:VTIMEZONE
END:VCALENDAR